BEGIN:VCALENDAR
VERSION:2.0
PRODID:icalendar-ruby
CALSCALE:GREGORIAN
METHOD:PUBLISH
BEGIN:VEVENT
DTSTAMP:20200301T081006Z
UID:http://www.cloudre.com.au/property?property_id=282883
DTSTART:20170422T233000
DTEND:20170423T000000
CLASS:PUBLIC
CREATED:20180912T110242
DESCRIPTION: 
LAST-MODIFIED:20181012T111020
LOCATION:51 Doyles Road\, NEURUM QLD 4514\, Australia
SUMMARY:51 Doyles Road\,  Auction
URL:http://www.cloudre.com.au/property?property_id=282883
END:VEVENT
END:VCALENDAR
