BEGIN:VCALENDAR
VERSION:2.0
PRODID:icalendar-ruby
CALSCALE:GREGORIAN
METHOD:PUBLISH
BEGIN:VEVENT
DTSTAMP:20200301T080954Z
UID:http://www.cloudre.com.au/property?property_id=282898
DTSTART:20171102T180000
DTEND:20171102T183000
CLASS:PUBLIC
CREATED:20180912T113253
DESCRIPTION: 
LAST-MODIFIED:20181012T114051
LOCATION:Jane Street\, VALE VIEW QLD 4352\, Australia
SUMMARY:Jane Street\,  Auction
URL:http://www.cloudre.com.au/property?property_id=282898
END:VEVENT
END:VCALENDAR
