BEGIN:VCALENDAR
VERSION:2.0
PRODID:icalendar-ruby
CALSCALE:GREGORIAN
METHOD:PUBLISH
BEGIN:VEVENT
DTSTAMP:20200301T080925Z
UID:http://www.cloudre.com.au/property?property_id=282903
DTSTART:20180215T180000
DTEND:20180215T183000
CLASS:PUBLIC
CREATED:20180912T113256
DESCRIPTION: 
LAST-MODIFIED:20181116T064252
LOCATION:Cronin Road\, HIGHFIELDS QLD 4352\, Australia
SUMMARY:Cronin Road\,  Auction
URL:http://www.cloudre.com.au/property?property_id=282903
END:VEVENT
END:VCALENDAR
