BEGIN:VCALENDAR
VERSION:2.0
PRODID:icalendar-ruby
CALSCALE:GREGORIAN
METHOD:PUBLISH
BEGIN:VEVENT
DTSTAMP:20200301T080943Z
UID:http://www.cloudre.com.au/property?property_id=282931
DTSTART:20171220T100000
DTEND:20171220T103000
CLASS:PUBLIC
CREATED:20180912T113314
DESCRIPTION: 
LAST-MODIFIED:20181012T103823
LOCATION:105 North Street\, TOOWOOMBA CITY QLD 4350\, Australia
SUMMARY:105 North Street\,  Auction
URL:http://www.cloudre.com.au/property?property_id=282931
END:VEVENT
END:VCALENDAR
